{
 "currentVersion": 10.71,
 "serviceDescription": "reclass100_new",
 "name": "reclass100_new",
 "description": "",
 "extent": {
  "xmin": 117182.62718253321,
  "ymin": 657772.6533093047,
  "xmax": 1019582.6271825333,
  "ymax": 1497672.6533093047,
  "spatialReference": {
   "wkid": 32647,
   "latestWkid": 32647
  }
 },
 "initialExtent": {
  "xmin": 117182.62718253321,
  "ymin": 657772.6533093047,
  "xmax": 1019582.6271825333,
  "ymax": 1497672.6533093047,
  "spatialReference": {
   "wkid": 32647,
   "latestWkid": 32647
  }
 },
 "fullExtent": {
  "xmin": 117182.62718253321,
  "ymin": 657772.6533093047,
  "xmax": 1019582.6271825333,
  "ymax": 1497672.6533093047,
  "spatialReference": {
   "wkid": 32647,
   "latestWkid": 32647
  }
 },
 "pixelSizeX": 100,
 "pixelSizeY": 100,
 "bandCount": 1,
 "pixelType": "U4",
 "minPixelSize": 0,
 "maxPixelSize": 0,
 "copyrightText": "",
 "serviceDataType": "esriImageServiceDataTypeGeneric",
 "minValues": [
  1
 ],
 "maxValues": [
  6
 ],
 "meanValues": [
  5.247415149965085
 ],
 "stdvValues": [
  1.52185729297394
 ],
 "objectIdField": "",
 "fields": [],
 "capabilities": "Image,Metadata,Mensuration",
 "defaultMosaicMethod": "Center",
 "allowedMosaicMethods": "",
 "sortField": "",
 "sortValue": null,
 "mosaicOperator": "First",
 "defaultCompressionQuality": 75,
 "defaultResamplingMethod": "Bilinear",
 "maxImageHeight": 4100,
 "maxImageWidth": 15000,
 "allowRasterFunction": true,
 "rasterFunctionInfos": [
  {
   "name": "None",
   "description": "",
   "help": ""
  }
 ],
 "rasterTypeInfos": [
  {
   "name": "Raster Dataset",
   "description": "Supports all ArcGIS Raster Datasets",
   "help": ""
  }
 ],
 "mensurationCapabilities": "Basic",
 "hasHistograms": true,
 "hasColormap": false,
 "hasRasterAttributeTable": true,
 "minScale": 0,
 "maxScale": 0,
 "exportTilesAllowed": false,
 "hasMultidimensions": false,
 "supportsStatistics": false,
 "supportsAdvancedQueries": false,
 "editFieldsInfo": null,
 "ownershipBasedAccessControlForRasters": null,
 "allowComputeTiePoints": false,
 "useStandardizedQueries": true,
 "advancedQueryCapabilities": {
  "useStandardizedQueries": true,
  "supportsStatistics": false,
  "supportsOrderBy": false,
  "supportsDistinct": false,
  "supportsPagination": false
 },
 "spatialReference": {
  "wkid": 32647,
  "latestWkid": 32647
 }
}
