View In:
ArcGIS JavaScript
ArcGIS Online Map Viewer
ArcGIS Earth
ArcMap
View Footprint In:
ArcGIS Online Map Viewer
Service Description: FernImage
Name: FernImage
Description:
Single Fused Map Cache: false
Extent:
XMin: -9302137.15089981
YMin: 4257703.8664069185
XMax: -9295174.15089981
YMax: 4266279.8664069185
Spatial Reference: 102100
(3857)
Initial Extent:
XMin: -9302137.15089981
YMin: 4257703.8664069185
XMax: -9295174.15089981
YMax: 4266279.8664069185
Spatial Reference: 102100
(3857)
Full Extent:
XMin: -9302137.15089981
YMin: 4257703.8664069185
XMax: -9295174.15089981
YMax: 4266279.8664069185
Spatial Reference: 102100
(3857)
Pixel Size X: 1.0
Pixel Size Y: 1.0
Band Count: 4
Pixel Type: U8
RasterFunction Infos: {"rasterFunctionInfos": [
{
"name": "Fern NDVI",
"description": "A raster function template.",
"help": ""
},
{
"name": "None",
"description": "",
"help": ""
}
]}
Mensuration Capabilities: Basic
Has Histograms: true
Has Colormap: false
Has Multi Dimensions : false
Rendering Rule:
Min Scale: 0
Max Scale: 0
Copyright Text:
Service Data Type: esriImageServiceDataTypeGeneric
Min Values: 3, 18, 39, 12
Max Values: 244, 242, 241, 245
Mean Values: 98.782808561263, 112.17775516137, 101.02967233119, 159.16420149431
Standard Deviation Values: 33.70532094339, 27.394214669044, 22.000184869369, 25.826242828582
Object ID Field:
Fields:
None
Default Mosaic Method: Center
Allowed Mosaic Methods:
SortField:
SortValue: null
Mosaic Operator: First
Default Compression Quality: 75
Default Resampling Method: Bilinear
Max Record Count: null
Max Image Height: 4100
Max Image Width: 15000
Max Download Image Count: null
Max Mosaic Image Count: null
Allow Raster Function: true
Allow Compute TiePoints: false
Supports Statistics: false
Supports Advanced Queries: false
Use StandardizedQueries: true
Raster Type Infos:
Name: Raster Dataset
Description: Supports all ArcGIS Raster Datasets
Help:
Has Raster Attribute Table: false
Edit Fields Info: null
Ownership Based AccessControl For Rasters: null
Child Resources:
Info
Histograms
Key Properties
Legend
MultiDimensionalInfo
rasterFunctionInfos
Supported Operations:
Export Image
Identify
Measure
Compute Histograms
Compute Statistics Histograms
Get Samples
Compute Class Statistics
Query Boundary
Compute Pixel Location