View In:
ArcGIS JavaScript
ArcGIS Online Map Viewer
ArcGIS Earth
ArcMap
View Footprint In:
ArcGIS Online Map Viewer
Service Description: reclass100
Name: reclass100
Description:
Single Fused Map Cache: false
Extent:
XMin: 117182.62718253321
YMin: 657772.6533093047
XMax: 1019582.6271825333
YMax: 1497672.6533093047
Spatial Reference: 32647
(32647)
Initial Extent:
XMin: 117182.62718253321
YMin: 657772.6533093047
XMax: 1019582.6271825333
YMax: 1497672.6533093047
Spatial Reference: 32647
(32647)
Full Extent:
XMin: 117182.62718253321
YMin: 657772.6533093047
XMax: 1019582.6271825333
YMax: 1497672.6533093047
Spatial Reference: 32647
(32647)
Pixel Size X: 100.0
Pixel Size Y: 100.0
Band Count: 1
Pixel Type: U4
RasterFunction Infos: {"rasterFunctionInfos": [{
"name": "None",
"description": "",
"help": ""
}]}
Mensuration Capabilities: Basic
Has Histograms: true
Has Colormap: false
Has Multi Dimensions : false
Rendering Rule:
Min Scale: 0
Max Scale: 0
Copyright Text:
Service Data Type: esriImageServiceDataTypeGeneric
Min Values: 1
Max Values: 6
Mean Values: 5.247415149965085
Standard Deviation Values: 1.52185729297394
Object ID Field:
Fields:
None
Default Mosaic Method: Center
Allowed Mosaic Methods:
SortField:
SortValue: null
Mosaic Operator: First
Default Compression Quality: 75
Default Resampling Method: Bilinear
Max Record Count: null
Max Image Height: 4100
Max Image Width: 15000
Max Download Image Count: null
Max Mosaic Image Count: null
Allow Raster Function: true
Allow Compute TiePoints: false
Supports Statistics: false
Supports Advanced Queries: false
Use StandardizedQueries: true
Raster Type Infos:
Name: Raster Dataset
Description: Supports all ArcGIS Raster Datasets
Help:
Has Raster Attribute Table: true
Edit Fields Info: null
Ownership Based AccessControl For Rasters: null
Child Resources:
Info
Raster Attribute Table
Histograms
Key Properties
Legend
MultiDimensionalInfo
rasterFunctionInfos
Supported Operations:
Export Image
Identify
Measure
Compute Histograms
Compute Statistics Histograms
Get Samples
Compute Class Statistics
Query Boundary
Compute Pixel Location